BEGIN:VCALENDAR
VERSION:2.0
PRODID:-//DOT Durangaldeko Agenda - ECPv6.15.20//NONSGML v1.0//EN
CALSCALE:GREGORIAN
METHOD:PUBLISH
X-WR-CALNAME:DOT Durangaldeko Agenda
X-ORIGINAL-URL:https://agendadurangaldea.dotb.eus
X-WR-CALDESC:Eventos para DOT Durangaldeko Agenda
REFRESH-INTERVAL;VALUE=DURATION:PT1H
X-Robots-Tag:noindex
X-PUBLISHED-TTL:PT1H
BEGIN:VTIMEZONE
TZID:Europe/Madrid
BEGIN:DAYLIGHT
TZOFFSETFROM:+0100
TZOFFSETTO:+0200
TZNAME:CEST
DTSTART:20250330T010000
END:DAYLIGHT
BEGIN:STANDARD
TZOFFSETFROM:+0200
TZOFFSETTO:+0100
TZNAME:CET
DTSTART:20251026T010000
END:STANDARD
BEGIN:DAYLIGHT
TZOFFSETFROM:+0100
TZOFFSETTO:+0200
TZNAME:CEST
DTSTART:20260329T010000
END:DAYLIGHT
BEGIN:STANDARD
TZOFFSETFROM:+0200
TZOFFSETTO:+0100
TZNAME:CET
DTSTART:20261025T010000
END:STANDARD
BEGIN:DAYLIGHT
TZOFFSETFROM:+0100
TZOFFSETTO:+0200
TZNAME:CEST
DTSTART:20270328T010000
END:DAYLIGHT
BEGIN:STANDARD
TZOFFSETFROM:+0200
TZOFFSETTO:+0100
TZNAME:CET
DTSTART:20271031T010000
END:STANDARD
END:VTIMEZONE
BEGIN:VEVENT
DTSTART;TZID=Europe/Madrid:20260422T190000
DTEND;TZID=Europe/Madrid:20260422T190000
DTSTAMP:20260422T014322
CREATED:20260416T110017Z
LAST-MODIFIED:20260416T110017Z
UID:31312-1776884400-1776884400@agendadurangaldea.dotb.eus
SUMMARY:No te olvidaré
DESCRIPTION:📍 Cine Zugaza\, Durango \nProfundo drama emocional que reflexiona sobre la memoria y la pérdida. Una historia íntima y sincera que toca el corazón.
URL:https://agendadurangaldea.dotb.eus/event/no-te-olvidare-9/
CATEGORIES:Cine
END:VEVENT
BEGIN:VEVENT
DTSTART;TZID=Europe/Madrid:20260422T190000
DTEND;TZID=Europe/Madrid:20260422T190000
DTSTAMP:20260422T014322
CREATED:20260416T110638Z
LAST-MODIFIED:20260416T110638Z
UID:31334-1776884400-1776884400@agendadurangaldea.dotb.eus
SUMMARY:La momia de Lee Cronin
DESCRIPTION:📍 Cine Zugaza\, Durango \nIntenso thriller de terror donde la leyenda de una momia crea un ambiente oscuro y lleno de tensión. Una propuesta que combina intensidad y misterio.
URL:https://agendadurangaldea.dotb.eus/event/la-momia-de-lee-cronin-11/
CATEGORIES:Cine
END:VEVENT
BEGIN:VEVENT
DTSTART;TZID=Europe/Madrid:20260422T190000
DTEND;TZID=Europe/Madrid:20260422T190000
DTSTAMP:20260422T014322
CREATED:20260416T110639Z
LAST-MODIFIED:20260416T110639Z
UID:31338-1776884400-1776884400@agendadurangaldea.dotb.eus
SUMMARY:Turandot
DESCRIPTION:📍 Cine Zugaza\, Durango \nRepresentación del 100 aniversario de la ópera clásica de Puccini. Una historia épica de amor\, muerte y desafío llevada a la gran pantalla. (142 min)
URL:https://agendadurangaldea.dotb.eus/event/turandot/
CATEGORIES:Cine
END:VEVENT
END:VCALENDAR