BEGIN:VCALENDAR
VERSION:2.0
PRODID:-//DOT Durangaldeko Agenda - ECPv6.15.20//NONSGML v1.0//EN
CALSCALE:GREGORIAN
METHOD:PUBLISH
X-WR-CALNAME:DOT Durangaldeko Agenda
X-ORIGINAL-URL:https://agendadurangaldea.dotb.eus
X-WR-CALDESC:Eventos para DOT Durangaldeko Agenda
REFRESH-INTERVAL;VALUE=DURATION:PT1H
X-Robots-Tag:noindex
X-PUBLISHED-TTL:PT1H
BEGIN:VTIMEZONE
TZID:Europe/Madrid
BEGIN:DAYLIGHT
TZOFFSETFROM:+0100
TZOFFSETTO:+0200
TZNAME:CEST
DTSTART:20250330T010000
END:DAYLIGHT
BEGIN:STANDARD
TZOFFSETFROM:+0200
TZOFFSETTO:+0100
TZNAME:CET
DTSTART:20251026T010000
END:STANDARD
BEGIN:DAYLIGHT
TZOFFSETFROM:+0100
TZOFFSETTO:+0200
TZNAME:CEST
DTSTART:20260329T010000
END:DAYLIGHT
BEGIN:STANDARD
TZOFFSETFROM:+0200
TZOFFSETTO:+0100
TZNAME:CET
DTSTART:20261025T010000
END:STANDARD
BEGIN:DAYLIGHT
TZOFFSETFROM:+0100
TZOFFSETTO:+0200
TZNAME:CEST
DTSTART:20270328T010000
END:DAYLIGHT
BEGIN:STANDARD
TZOFFSETFROM:+0200
TZOFFSETTO:+0100
TZNAME:CET
DTSTART:20271031T010000
END:STANDARD
END:VTIMEZONE
BEGIN:VEVENT
DTSTART;TZID=Europe/Madrid:20260424T180000
DTEND;TZID=Europe/Madrid:20260424T180000
DTSTAMP:20260424T013859
CREATED:20260423T222600Z
LAST-MODIFIED:20260423T222600Z
UID:31378-1777053600-1777053600@agendadurangaldea.dotb.eus
SUMMARY:Michael
DESCRIPTION:📍 Cine Zugaza\, Durango \nIntenso drama biográfico que explora la vida y obra de un artista. Una historia emotiva contada con gran sensibilidad.
URL:https://agendadurangaldea.dotb.eus/event/michael/
CATEGORIES:Cine
END:VEVENT
BEGIN:VEVENT
DTSTART;TZID=Europe/Madrid:20260424T180000
DTEND;TZID=Europe/Madrid:20260424T180000
DTSTAMP:20260424T013859
CREATED:20260423T222612Z
LAST-MODIFIED:20260423T222612Z
UID:31390-1777053600-1777053600@agendadurangaldea.dotb.eus
SUMMARY:Turno de noche
DESCRIPTION:📍 Cine Zugaza\, Durango \nIntenso thriller psicológico donde un turno de noche esconde terribles secretos. Una historia cargada de tensión y misterio.
URL:https://agendadurangaldea.dotb.eus/event/turno-de-noche/
CATEGORIES:Cine
END:VEVENT
BEGIN:VEVENT
DTSTART;TZID=Europe/Madrid:20260424T180000
DTEND;TZID=Europe/Madrid:20260424T180000
DTSTAMP:20260424T013859
CREATED:20260423T222724Z
LAST-MODIFIED:20260423T222724Z
UID:31399-1777053600-1777053600@agendadurangaldea.dotb.eus
SUMMARY:Kraken: El libro negro de las horas
DESCRIPTION:📍 Cine Zugaza\, Durango \nThriller de aventuras donde un misterioso libro esconde oscuros secretos. Una propuesta que combina intensidad y fantasía.
URL:https://agendadurangaldea.dotb.eus/event/kraken-el-libro-negro-de-las-horas/
CATEGORIES:Cine
END:VEVENT
BEGIN:VEVENT
DTSTART;TZID=Europe/Madrid:20260424T190000
DTEND;TZID=Europe/Madrid:20260424T190000
DTSTAMP:20260424T013859
CREATED:20260423T223327Z
LAST-MODIFIED:20260423T223327Z
UID:31414-1777057200-1777057200@agendadurangaldea.dotb.eus
SUMMARY:Calle Málaga
DESCRIPTION:📍 Zornotza Aretoa\, Amorebieta-Etxano \nDrama social y emocional que explora la vida urbana y las relaciones humanas. Una reflexión profunda sobre la evolución de los personajes y los giros de la vida.
URL:https://agendadurangaldea.dotb.eus/event/calle-malaga-9/
CATEGORIES:Cine
END:VEVENT
BEGIN:VEVENT
DTSTART;TZID=Europe/Madrid:20260424T200000
DTEND;TZID=Europe/Madrid:20260424T200000
DTSTAMP:20260424T013859
CREATED:20260423T223729Z
LAST-MODIFIED:20260423T223729Z
UID:31425-1777060800-1777060800@agendadurangaldea.dotb.eus
SUMMARY:Saeta
DESCRIPTION:📍 Arriola Antzokia\, Elorrio \nObra de teatro que aborda temas profundos de manera poética y sincera. Una propuesta artística que invita al espectador a la reflexión.
URL:https://agendadurangaldea.dotb.eus/event/saeta-2/
CATEGORIES:Teatro
END:VEVENT
BEGIN:VEVENT
DTSTART;TZID=Europe/Madrid:20260424T203000
DTEND;TZID=Europe/Madrid:20260424T203000
DTSTAMP:20260424T013859
CREATED:20260423T222601Z
LAST-MODIFIED:20260423T222601Z
UID:31379-1777062600-1777062600@agendadurangaldea.dotb.eus
SUMMARY:Michael
DESCRIPTION:📍 Cine Zugaza\, Durango \nIntenso drama biográfico que explora la vida y obra de un artista. Una historia emotiva contada con gran sensibilidad.
URL:https://agendadurangaldea.dotb.eus/event/michael-2/
CATEGORIES:Cine
END:VEVENT
BEGIN:VEVENT
DTSTART;TZID=Europe/Madrid:20260424T203000
DTEND;TZID=Europe/Madrid:20260424T203000
DTSTAMP:20260424T013859
CREATED:20260423T222612Z
LAST-MODIFIED:20260423T222612Z
UID:31391-1777062600-1777062600@agendadurangaldea.dotb.eus
SUMMARY:Turno de noche
DESCRIPTION:📍 Cine Zugaza\, Durango \nIntenso thriller psicológico donde un turno de noche esconde terribles secretos. Una historia cargada de tensión y misterio.
URL:https://agendadurangaldea.dotb.eus/event/turno-de-noche-2/
CATEGORIES:Cine
END:VEVENT
BEGIN:VEVENT
DTSTART;TZID=Europe/Madrid:20260424T203000
DTEND;TZID=Europe/Madrid:20260424T203000
DTSTAMP:20260424T013859
CREATED:20260423T222724Z
LAST-MODIFIED:20260423T222724Z
UID:31400-1777062600-1777062600@agendadurangaldea.dotb.eus
SUMMARY:Kraken: El libro negro de las horas
DESCRIPTION:📍 Cine Zugaza\, Durango \nThriller de aventuras donde un misterioso libro esconde oscuros secretos. Una propuesta que combina intensidad y fantasía.
URL:https://agendadurangaldea.dotb.eus/event/kraken-el-libro-negro-de-las-horas-2/
CATEGORIES:Cine
END:VEVENT
BEGIN:VEVENT
DTSTART;TZID=Europe/Madrid:20260424T210000
DTEND;TZID=Europe/Madrid:20260424T210000
DTSTAMP:20260424T013859
CREATED:20260423T223528Z
LAST-MODIFIED:20260423T223528Z
UID:31421-1777064400-1777064400@agendadurangaldea.dotb.eus
SUMMARY:Oraina eskuetan
DESCRIPTION:📍 Casa de Cultura\, Berriz \nÍntimo concierto en euskera que reflexiona sobre la importancia del presente. Una propuesta especial que combina música y sensibilidad.
URL:https://agendadurangaldea.dotb.eus/event/oraina-eskuetan/
CATEGORIES:Música
END:VEVENT
END:VCALENDAR