BEGIN:VCALENDAR
VERSION:2.0
PRODID:-//DOT Durangaldeko Agenda - ECPv6.15.20//NONSGML v1.0//EN
CALSCALE:GREGORIAN
METHOD:PUBLISH
X-WR-CALNAME:DOT Durangaldeko Agenda
X-ORIGINAL-URL:https://agendadurangaldea.dotb.eus
X-WR-CALDESC:Eventos para DOT Durangaldeko Agenda
REFRESH-INTERVAL;VALUE=DURATION:PT1H
X-Robots-Tag:noindex
X-PUBLISHED-TTL:PT1H
BEGIN:VTIMEZONE
TZID:Europe/Madrid
BEGIN:DAYLIGHT
TZOFFSETFROM:+0100
TZOFFSETTO:+0200
TZNAME:CEST
DTSTART:20250330T010000
END:DAYLIGHT
BEGIN:STANDARD
TZOFFSETFROM:+0200
TZOFFSETTO:+0100
TZNAME:CET
DTSTART:20251026T010000
END:STANDARD
BEGIN:DAYLIGHT
TZOFFSETFROM:+0100
TZOFFSETTO:+0200
TZNAME:CEST
DTSTART:20260329T010000
END:DAYLIGHT
BEGIN:STANDARD
TZOFFSETFROM:+0200
TZOFFSETTO:+0100
TZNAME:CET
DTSTART:20261025T010000
END:STANDARD
BEGIN:DAYLIGHT
TZOFFSETFROM:+0100
TZOFFSETTO:+0200
TZNAME:CEST
DTSTART:20270328T010000
END:DAYLIGHT
BEGIN:STANDARD
TZOFFSETFROM:+0200
TZOFFSETTO:+0100
TZNAME:CET
DTSTART:20271031T010000
END:STANDARD
END:VTIMEZONE
BEGIN:VEVENT
DTSTART;TZID=Europe/Madrid:20260426T123000
DTEND;TZID=Europe/Madrid:20260426T123000
DTSTAMP:20260426T014407
CREATED:20260423T223729Z
LAST-MODIFIED:20260423T223729Z
UID:31423-1777206600-1777206600@agendadurangaldea.dotb.eus
SUMMARY:Atearen bestaldean
DESCRIPTION:📍 Casa de Cultura\, Berriz \nEspectáculo teatral familiar donde una puerta mágica nos lleva a nuevas aventuras. Un divertido espectáculo que cautivará a pequeños y mayores. (55 min)
URL:https://agendadurangaldea.dotb.eus/event/atearen-bestaldean/
CATEGORIES:Teatro
END:VEVENT
BEGIN:VEVENT
DTSTART;TZID=Europe/Madrid:20260426T164500
DTEND;TZID=Europe/Madrid:20260426T164500
DTSTAMP:20260426T014407
CREATED:20260423T222605Z
LAST-MODIFIED:20260423T222605Z
UID:31383-1777221900-1777221900@agendadurangaldea.dotb.eus
SUMMARY:Michael
DESCRIPTION:📍 Cine Zugaza\, Durango \nIntenso drama biográfico que explora la vida y obra de un artista. Una historia emotiva contada con gran sensibilidad.
URL:https://agendadurangaldea.dotb.eus/event/michael-6/
CATEGORIES:Cine
END:VEVENT
BEGIN:VEVENT
DTSTART;TZID=Europe/Madrid:20260426T164500
DTEND;TZID=Europe/Madrid:20260426T164500
DTSTAMP:20260426T014407
CREATED:20260423T223126Z
LAST-MODIFIED:20260423T223126Z
UID:31411-1777221900-1777221900@agendadurangaldea.dotb.eus
SUMMARY:Maracuda
DESCRIPTION:📍 Cine Zugaza\, Durango \nAventura animada que narra las aventuras en las profundidades del océano. Una experiencia colorida y entretenida para toda la familia.
URL:https://agendadurangaldea.dotb.eus/event/maracuda-2/
CATEGORIES:Cine
END:VEVENT
BEGIN:VEVENT
DTSTART;TZID=Europe/Madrid:20260426T170000
DTEND;TZID=Europe/Madrid:20260426T170000
DTSTAMP:20260426T014407
CREATED:20260423T223327Z
LAST-MODIFIED:20260423T223327Z
UID:31413-1777222800-1777222800@agendadurangaldea.dotb.eus
SUMMARY:Tafiti eta lagunak
DESCRIPTION:📍 Zornotza Aretoa\, Amorebieta-Etxano \nAventura de animación infantil en euskera donde la amistad y la aventura se combinan. Una historia colorida y alegre que cautivará a los más pequeños.
URL:https://agendadurangaldea.dotb.eus/event/tafiti-eta-lagunak-6/
CATEGORIES:Cine
END:VEVENT
BEGIN:VEVENT
DTSTART;TZID=Europe/Madrid:20260426T171500
DTEND;TZID=Europe/Madrid:20260426T171500
DTSTAMP:20260426T014407
CREATED:20260423T223126Z
LAST-MODIFIED:20260423T223126Z
UID:31409-1777223700-1777223700@agendadurangaldea.dotb.eus
SUMMARY:Super Mario Galaxy 3D
DESCRIPTION:📍 Cine Zugaza\, Durango \nAventura animada en 3D en el colorido mundo de Mario y sus amigos. Un espectáculo inmersivo que lleva la magia del famoso videojuego a la gran pantalla.
URL:https://agendadurangaldea.dotb.eus/event/super-mario-galaxy-3d-9/
CATEGORIES:Cine
END:VEVENT
BEGIN:VEVENT
DTSTART;TZID=Europe/Madrid:20260426T190000
DTEND;TZID=Europe/Madrid:20260426T190000
DTSTAMP:20260426T014407
CREATED:20260423T223327Z
LAST-MODIFIED:20260423T223729Z
UID:31416-1777230000-1777230000@agendadurangaldea.dotb.eus
SUMMARY:Calle Málaga
DESCRIPTION:📍 Casa de Cultura\, Berriz \nDrama social y emocional que explora la vida urbana y las relaciones humanas. Una reflexión profunda sobre la evolución de los personajes y los giros de la vida. (116 min)
URL:https://agendadurangaldea.dotb.eus/event/calle-malaga-11/
CATEGORIES:Cine
END:VEVENT
BEGIN:VEVENT
DTSTART;TZID=Europe/Madrid:20260426T193000
DTEND;TZID=Europe/Madrid:20260426T193000
DTSTAMP:20260426T014407
CREATED:20260423T222605Z
LAST-MODIFIED:20260423T222605Z
UID:31384-1777231800-1777231800@agendadurangaldea.dotb.eus
SUMMARY:Michael
DESCRIPTION:📍 Cine Zugaza\, Durango \nIntenso drama biográfico que explora la vida y obra de un artista. Una historia emotiva contada con gran sensibilidad.
URL:https://agendadurangaldea.dotb.eus/event/michael-7/
CATEGORIES:Cine
END:VEVENT
BEGIN:VEVENT
DTSTART;TZID=Europe/Madrid:20260426T193000
DTEND;TZID=Europe/Madrid:20260426T193000
DTSTAMP:20260426T014407
CREATED:20260423T222718Z
LAST-MODIFIED:20260423T222718Z
UID:31393-1777231800-1777231800@agendadurangaldea.dotb.eus
SUMMARY:Turno de noche
DESCRIPTION:📍 Cine Zugaza\, Durango \nIntenso thriller psicológico donde un turno de noche esconde terribles secretos. Una historia cargada de tensión y misterio.
URL:https://agendadurangaldea.dotb.eus/event/turno-de-noche-4/
CATEGORIES:Cine
END:VEVENT
BEGIN:VEVENT
DTSTART;TZID=Europe/Madrid:20260426T193000
DTEND;TZID=Europe/Madrid:20260426T193000
DTSTAMP:20260426T014407
CREATED:20260423T222724Z
LAST-MODIFIED:20260423T222724Z
UID:31402-1777231800-1777231800@agendadurangaldea.dotb.eus
SUMMARY:Kraken: El libro negro de las horas
DESCRIPTION:📍 Cine Zugaza\, Durango \nThriller de aventuras donde un misterioso libro esconde oscuros secretos. Una propuesta que combina intensidad y fantasía.
URL:https://agendadurangaldea.dotb.eus/event/kraken-el-libro-negro-de-las-horas-4/
CATEGORIES:Cine
END:VEVENT
BEGIN:VEVENT
DTSTART;TZID=Europe/Madrid:20260426T200000
DTEND;TZID=Europe/Madrid:20260426T200000
DTSTAMP:20260426T014407
CREATED:20260423T223729Z
LAST-MODIFIED:20260423T223729Z
UID:31427-1777233600-1777233600@agendadurangaldea.dotb.eus
SUMMARY:La Grazia
DESCRIPTION:📍 Arriola Antzokia\, Elorrio \nDrama emocional que explora la culpa\, el perdón y las relaciones familiares. Una historia emotiva contada con gran sensibilidad.
URL:https://agendadurangaldea.dotb.eus/event/la-grazia-10/
CATEGORIES:Cine
END:VEVENT
END:VCALENDAR